{"text_format":"3","workbook":"xlsx","n_sheets":2,"sheets":["Turnierplan","Index"],"not_rendered":{"images":2,"macros":1,"defined_names":10},"read":"whole","date_system":"1900"}

{"sheet":"Turnierplan","index":0,"n_rows":116,"n_cols":78,"rows_kept":116,"merged":[[4,1,4,58],[5,1,5,58],[6,1,6,57],[7,7,7,11],[7,21,7,22],[7,24,7,28],[7,41,7,45],[8,7,8,11],[8,21,8,22],[8,24,8,28],[8,41,8,45],[8,60,10,61],[11,1,11,58],[13,2,13,29],[13,32,13,55],[13,56,13,57],[14,2,14,3],[14,4,14,29],[14,32,14,34],[14,35,14,55],[14,56,14,57],[15,2,15,3],[15,4,15,29],[15,32,15,34],[15,35,15,55],[15,56,15,57],[16,2,16,3],[16,4,16,29],[16,32,16,34],[16,35,16,55],[16,56,16,57],[17,2,17,3],[17,4,17,29],[17,32,17,34],[17,35,17,55],[17,56,17,57],[21,2,21,3],[21,4,21,6],[21,7,21,9],[21,10,21,14],[21,15,21,50],[21,51,21,55],[21,56,21,57],[22,2,22,3],[22,4,22,6],[22,7,22,9],[22,10,22,14],[22,15,22,30],[22,34,22,50],[22,51,22,52],[22,54,22,55],[22,56,22,57],[23,2,23,3],[23,4,23,6],[23,7,23,9],[23,10,23,14],[23,15,23,30],[23,34,23,50],[23,51,23,52],[23,54,23,55],[23,56,23,57],[24,2,24,3],[24,4,24,6],[24,7,24,9],[24,10,24,14],[24,15,24,30],[24,34,24,50],[24,51,24,52],[24,54,24,55],[24,56,24,57],[25,2,25,3],[25,4,25,6],[25,7,25,9],[25,10,25,14],[25,15,25,30],[25,34,25,50],[25,51,25,52],[25,54,25,55],[25,56,25,57],[26,2,26,3],[26,4,26,6],[26,7,26,9],[26,10,26,14],[26,15,26,30],[26,34,26,50],[26,51,26,52],[26,54,26,55],[26,56,26,57],[27,2,27,3],[27,4,27,6],[27,7,27,9],[27,10,27,14],[27,15,27,30],[27,34,27,50],[27,51,27,52],[27,54,27,55],[27,56,27,57],[28,2,28,3],[28,4,28,6],[28,7,28,9],[28,10,28,14],[28,15,28,30],[28,34,28,50],[28,51,28,52],[28,54,28,55],[28,56,28,57],[29,2,29,3],[29,4,29,6],[29,7,29,9],[29,10,29,14],[29,15,29,30],[29,34,29,50],[29,51,29,52],[29,54,29,55],[29,56,29,57],[30,15,30,50],[31,2,31,3],[31,4,31,6],[31,7,31,9],[31,10,31,14],[31,15,31,30],[31,34,31,50],[31,51,31,52],[31,54,31,55],[31,56,31,57],[32,2,32,3],[32,4,32,6],[32,7,32,9],[32,10,32,14],[32,15,32,30],[32,34,32,50],[32,51,32,52],[32,54,32,55],[32,56,32,57],[33,2,33,3],[33,4,33,6],[33,7,33,9],[33,10,33,14],[33,15,33,30],[33,34,33,50],[33,51,33,52],[33,54,33,55],[33,56,33,57],[34,2,34,3],[34,4,34,6],[34,7,34,9],[34,10,34,14],[34,15,34,30],[34,34,34,50],[34,51,34,52],[34,54,34,55],[34,56,34,57],[36,1,36,58],[39,2,39,31],[39,32,39,35],[39,36,39,38],[39,39,39,43],[39,44,39,46],[40,2,40,3],[40,4,40,30],[40,32,40,35],[40,36,40,38],[40,39,40,40],[40,42,40,43],[40,44,40,46],[41,2,41,3],[41,4,41,30],[41,32,41,35],[41,36,41,38],[41,39,41,40],[41,42,41,43],[41,44,41,46],[42,2,42,3],[42,4,42,30],[42,32,42,35],[42,36,42,38],[42,39,42,40],[42,42,42,43],[42,44,42,46],[43,2,43,3],[43,4,43,30],[43,32,43,35],[43,36,43,38],[43,39,43,40],[43,42,43,43],[43,44,43,46],[45,2,45,31],[45,32,45,35],[45,36,45,38],[45,39,45,43],[45,44,45,46],[46,2,46,3],[46,4,46,30],[46,32,46,35],[46,36,46,38],[46,39,46,40],[46,42,46,43],[46,44,46,46],[47,2,47,3],[47,4,47,30],[47,32,47,35],[47,36,47,38],[47,39,47,40],[47,42,47,43],[47,44,47,46],[48,2,48,3],[48,4,48,30],[48,32,48,35],[48,36,48,38],[48,39,48,40],[48,42,48,43],[48,44,48,46],[49,2,49,3],[49,4,49,30],[49,32,49,35],[49,36,49,38],[49,39,49,40],[49,42,49,43],[49,44,49,46],[51,2,51,31],[51,32,51,35],[51,36,51,38],[51,39,51,43],[51,44,51,46],[52,2,52,3],[52,4,52,30],[52,32,52,35],[52,36,52,38],[52,39,52,40],[52,42,52,43],[52,44,52,46],[53,2,53,3],[53,4,53,30],[53,32,53,35],[53,36,53,38],[53,39,53,40],[53,42,53,43],[53,44,53,46],[54,2,54,3],[54,4,54,30],[54,32,54,35],[54,36,54,38],[54,39,54,40],[54,42,54,43],[54,44,54,46],[55,2,55,3],[55,4,55,30],[55,32,55,35],[55,36,55,38],[55,39,55,40],[55,42,55,43],[55,44,55,46],[59,1,59,58],[62,2,62,3],[62,4,62,9],[62,10,62,14],[62,15,62,50],[62,51,62,55],[62,56,62,57],[63,2,64,3],[63,4,64,9],[63,10,64,14],[63,15,64,30],[63,31,64,31],[63,32,64,32],[63,33,64,50],[63,51,64,52],[63,53,64,53],[63,54,64,55],[63,56,64,57],[66,2,66,3],[66,4,66,9],[66,10,66,14],[66,15,66,50],[66,51,66,55],[66,56,66,57],[67,2,68,3],[67,4,68,9],[67,10,68,14],[67,15,68,31],[67,32,68,32],[67,33,68,50],[67,51,68,52],[67,53,68,53],[67,54,68,55],[67,56,68,57],[70,1,70,58],[72,7,72,11],[72,21,72,22],[72,24,72,28],[72,41,72,45],[74,2,74,3],[74,4,74,9],[74,10,74,14],[74,15,74,50],[74,51,74,55],[74,56,74,57],[75,2,76,3],[75,4,76,9],[75,10,76,14],[75,15,75,30],[75,33,75,50],[75,51,76,52],[75,53,76,53],[75,54,76,55],[75,56,76,57],[76,15,76,30],[76,33,76,50],[78,2,78,3],[78,4,78,9],[78,10,78,14],[78,15,78,50],[78,51,78,55],[78,56,78,57],[79,2,80,3],[79,4,80,9],[79,10,80,14],[79,15,79,31],[79,33,79,50],[79,51,80,52],[79,53,80,53],[79,54,80,55],[79,56,80,57],[80,15,80,31],[80,33,80,50],[82,1,82,58],[84,9,84,11],[84,12,84,35],[84,36,84,40],[84,41,84,50],[85,9,85,11],[85,12,85,35],[85,36,85,40],[85,41,85,50],[86,9,86,11],[86,12,86,35],[86,36,86,40],[86,41,86,50],[87,9,87,11],[87,12,87,35],[87,36,87,40],[87,41,87,50],[88,9,88,11],[88,12,88,35],[88,36,88,40],[88,41,88,50],[89,9,89,11],[89,12,89,35],[89,36,89,40],[89,41,89,50],[90,9,90,11],[90,12,90,35],[90,36,90,40],[90,41,90,50],[91,9,91,11],[91,12,91,35],[91,36,91,40],[91,41,91,50]]}
[]
[]
[]
[]
[null,"FC Hochrhein Hohentengen-Stetten e.V. "]
[null,"46. Stetten-Stetten Fußballturnier \nvom 29.05. - 01.06.2020 in Stetten-Hohentengen"]
[]
[{"$nulls":5},"Beginn:",null,"10:00:00",{"$nulls":4},"Uhr",{"$nulls":6},"Spielzeit:",null,2,null,"x","00:25:00",{"$nulls":4},"min",null,"(Vorrunde)",{"$nulls":7},"Pause:","00:10:00","10:00:00",{"$nulls":4},"min"]
[{"$nulls":5},"Beginn:",null,"16:15:00",{"$nulls":4},"Uhr",{"$nulls":6},"Spielzeit:",null,2,null,"x","00:25:00",{"$nulls":4},"min",null,"(Finalrunde)",{"$nulls":7},"Pause:","00:10:00","10:00:00",{"$nulls":4},"min",{"$nulls":13},"Auslosung"]
[]
[]
[null,"I. Teilnehmende Mannschaften",{"$nulls":58},"A1"]
[{"$nulls":60},"B1"]
[null,null,"Gruppe A",{"$nulls":29},"Gruppe B",{"$nulls":27},"A2"]
[null,null,"1.",null,{"$f":"INDEX(Index!C1:C10,_GRA1)","v":"Stetten / Karlstadt"},{"$nulls":27},"1.",null,null,{"$f":"INDEX(Index!C1:C10,_GRB1)","v":"Stetten / Haigerloch"},{"$nulls":24},"B2"]
[null,null,"2.",null,{"$f":"INDEX(Index!C1:C10,_GRA2)","v":"Stetten / Allgäu"},{"$nulls":27},"2.",null,null,{"$f":"INDEX(Index!C1:C10,_GRB2)","v":"Stetten / Pfalz"},{"$nulls":24},"A3"]
[null,null,"3.",null,{"$f":"INDEX(Index!C1:C10,_GRA3)","v":"Stetten / Mühlheim"},{"$nulls":27},"3.",null,null,{"$f":"INDEX(Index!C1:C10,_GRB3)","v":"Stetten / Rhön"},{"$nulls":24},"B3"]
[null,null,"4.",null,{"$f":"INDEX(Index!C1:C10,_GRA4)","v":"Stetten / Remstal"},{"$nulls":27},"4.",null,null,{"$f":"INDEX(Index!C1:C10,_GRB4)","v":"Stetten / Hechingen"},{"$nulls":24},"A4"]
[{"$nulls":60},"B4"]
[]
[]
[null,null,"Nr.",null,"Platz",null,null,"Grp.",null,null,"Beginn",{"$nulls":4},"Spielpaarungen Samstag, 30.05.2020",{"$nulls":35},"Ergebnis",{"$nulls":4},"Tore",{"$nulls":7},"Punkte"]
[null,null,2,null,1,null,null,"A",null,null,{"$f":"$H$8","v":"10:00:00"},{"$nulls":4},{"$f":"$E$17","v":"Stetten / Mühlheim"},{"$nulls":15},"A3","-","A4",{"$f":"$E$18","v":"Stetten / Remstal"},{"$nulls":18},":",null,null,{"$f":"IF(BC23=\"\",\"\",BC23+AZ23+BE22)","v":""},{"$nulls":7},{"$f":"IF(ISBLANK(AZ23),\"0\",IF(AZ23>BC23,3,IF(AZ23=BC23,1,0)))","v":"0"},":",{"$f":"IF(ISBLANK(BC23),\"0\",IF(BC23>AZ23,3,IF(BC23=AZ23,1,0)))","v":"0"}]
[null,null,1,null,1,null,null,"A",null,null,{"$f":"K23+$V$8*$Y$8+$AO$8","v":"11:00:00"},{"$nulls":4},{"$f":"$E$15","v":"Stetten / Karlstadt"},{"$nulls":15},"A1","-","A2",{"$f":"$E$16","v":"Stetten / Allgäu"},{"$nulls":18},":",null,null,{"$f":"IF(AZ24=\"\",\"\",AZ24+BC24)","v":""},{"$nulls":7},{"$f":"IF(ISBLANK(AZ24),\"0\",IF(AZ24>BC24,3,IF(AZ24=BC24,1,0)))","v":"0"},":","0"]
[null,null,3,null,1,null,null,"B",null,null,{"$f":"K24+$V$8*$Y$8+$AO$8","v":"12:00:00"},{"$nulls":4},{"$f":"$AJ$15","v":"Stetten / Haigerloch"},{"$nulls":15},"B1","-","B2",{"$f":"$AJ$16","v":"Stetten / Pfalz"},{"$nulls":18},":",null,null,{"$f":"IF(BC25=\"\",\"\",BC25+AZ25+BE24)","v":""},{"$nulls":7},{"$f":"IF(ISBLANK(AZ25),\"0\",IF(AZ25>BC25,3,IF(AZ25=BC25,1,0)))","v":"0"},":",{"$f":"IF(ISBLANK(BC25),\"0\",IF(BC25>AZ25,3,IF(BC25=AZ25,1,0)))","v":"0"}]
[null,null,4,null,1,null,null,"B",null,null,{"$f":"K25+$V$8*$Y$8+$AO$8","v":"13:00:00"},{"$nulls":4},{"$f":"$AJ$17","v":"Stetten / Rhön"},{"$nulls":15},"B3","-","B4",{"$f":"$AJ$18","v":"Stetten / Hechingen"},{"$nulls":18},":",null,null,"",{"$nulls":7},"0",":","0"]
[null,null,5,null,1,null,null,"A",null,null,"14:00:00",{"$nulls":4},{"$f":"$E$15","v":"Stetten / Karlstadt"},{"$nulls":15},"A1","-","A3",{"$f":"$E$17","v":"Stetten / Mühlheim"},{"$nulls":18},":",null,null,"",{"$nulls":7},"0",":","0"]
[null,null,6,null,1,null,null,"A",null,null,"15:00:00",{"$nulls":4},{"$f":"$E$16","v":"Stetten / Allgäu"},{"$nulls":15},"A2","-","A4",{"$f":"$E$18","v":"Stetten / Remstal"},{"$nulls":18},":",null,null,{"$f":"IF(BC28=\"\",\"\",BC28+AZ28+BE27)","v":""},{"$nulls":7},"0",":","0"]
[null,null,7,null,1,null,null,"B",null,null,"16:00:00",{"$nulls":4},{"$f":"$AJ$15","v":"Stetten / Haigerloch"},{"$nulls":15},"B1","-","B3",{"$f":"$AJ$17","v":"Stetten / Rhön"},{"$nulls":18},":",null,null,"",{"$nulls":7},"0",":","0"]
[null,null,8,null,1,null,null,"B",null,null,"17:00:00",{"$nulls":4},{"$f":"$AJ$16","v":"Stetten / Pfalz"},{"$nulls":15},"B2","-","B4",{"$f":"$AJ$18","v":"Stetten / Hechingen"},{"$nulls":18},":",null,null,"",{"$nulls":7},"0",":","0"]
[{"$nulls":15},"Spielpaarung Sonntag, 31.05.2020"]
[null,null,9,null,1,null,null,"B",null,null,{"$f":"H8","v":"10:00:00"},{"$nulls":4},{"$f":"$AJ$18","v":"Stetten / Hechingen"},{"$nulls":15},"B4","-","B1",{"$f":"$AJ$15","v":"Stetten / Haigerloch"},{"$nulls":18},":",null,null,{"$f":"IF(BC32=\"\",\"\",BC32+AZ32+BE30)","v":""},{"$nulls":7},{"$f":"IF(ISBLANK(AZ32),\"0\",IF(AZ32>BC32,3,IF(AZ32=BC32,1,0)))","v":"0"},":",{"$f":"IF(ISBLANK(BC32),\"0\",IF(BC32>AZ32,3,IF(BC32=AZ32,1,0)))","v":"0"}]
[null,null,10,null,1,null,null,"A",null,null,{"$f":"K32+$V$8*$Y$8+$AO$8","v":"11:00:00"},{"$nulls":4},{"$f":"$E$18","v":"Stetten / Remstal"},{"$nulls":15},"A4","-","A1",{"$f":"$E$15","v":"Stetten / Karlstadt"},{"$nulls":18},":",null,null,{"$f":"IF(BC33=\"\",\"\",BC33+AZ33+BE32)","v":""},{"$nulls":7},{"$f":"IF(ISBLANK(AZ33),\"0\",IF(AZ33>BC33,3,IF(AZ33=BC33,1,0)))","v":"0"},":",{"$f":"IF(ISBLANK(BC33),\"0\",IF(BC33>AZ33,3,IF(BC33=AZ33,1,0)))","v":"0"}]
[null,null,11,null,1,null,null,"B",null,null,{"$f":"K33+$V$8*$Y$8+$AO$8","v":"12:00:00"},{"$nulls":4},{"$f":"$AJ$17","v":"Stetten / Rhön"},{"$nulls":15},"B3","-","B2",{"$f":"$AJ$16","v":"Stetten / Pfalz"},{"$nulls":18},":",null,null,{"$f":"IF(AZ34=\"\",\"\",AZ34+BC34+BE33)","v":""},{"$nulls":7},{"$f":"IF(ISBLANK(AZ34),\"0\",IF(AZ34>BC34,3,IF(AZ34=BC34,1,0)))","v":"0"},":",{"$f":"IF(ISBLANK(BC34),\"0\",IF(BC34>AZ34,3,IF(BC34=AZ34,1,0)))","v":"0"}]
[null,null,12,null,1,null,null,"A",null,null,{"$f":"K34+$V$8*$Y$8+$AO$8","v":"13:00:00"},{"$nulls":4},{"$f":"$E$17","v":"Stetten / Mühlheim"},{"$nulls":15},"A3","-","A2",{"$f":"$E$16","v":"Stetten / Allgäu"},{"$nulls":18},":",null,null,{"$f":"IF(BC35=\"\",\"\",BC35+AZ35+BE34)","v":""},{"$nulls":7},{"$f":"IF(ISBLANK(AZ35),\"0\",IF(AZ35>BC35,3,IF(AZ35=BC35,1,0)))","v":"0"},":",{"$f":"IF(ISBLANK(BC35),\"0\",IF(BC35>AZ35,3,IF(BC35=AZ35,1,0)))","v":"0"}]
[]
[null,"II. Abschlusstabellen Vorrunde"]
[]
[]
[null,null,"Gruppe A",{"$nulls":29},"Sp.",{"$nulls":3},"Pkt.",null,null,"Tore",{"$nulls":4},"Diff."]
[null,null,"1.",null,{"$f":"IF(BU100=0,\"\",$BT$100)","v":""},{"$nulls":27},{"$f":"IF($BU$100=0,\"\",$BU$100)","v":""},{"$nulls":3},{"$f":"IF($BU$100=0,\"\",$BV$100)","v":""},null,null,{"$f":"IF($BU$100=0,\"\",$BW$100)","v":""},null,":",{"$f":"IF($BU$100=0,\"\",$BY$100)","v":""},null,{"$f":"IF($BU$100=0,\"\",$BZ$100)","v":""}]
[null,null,"2.",null,{"$f":"IF(BU101=0,\"\",$BT$101)","v":""},{"$nulls":27},{"$f":"IF($BU$101=0,\"\",$BU$101)","v":""},{"$nulls":3},{"$f":"IF($BU$101=0,\"\",$BV$101)","v":""},null,null,{"$f":"IF($BU$101=0,\"\",$BW$101)","v":""},null,":",{"$f":"IF($BU$101=0,\"\",$BY$101)","v":""},null,{"$f":"IF($BU$101=0,\"\",$BZ$101)","v":""}]
[null,null,"3.",null,{"$f":"IF(BU102=0,\"\",$BT$102)","v":""},{"$nulls":27},{"$f":"IF($BU$102=0,\"\",$BU$102)","v":""},{"$nulls":3},{"$f":"IF($BU$102=0,\"\",$BV$102)","v":""},null,null,{"$f":"IF($BU$102=0,\"\",$BW$102)","v":""},null,":",{"$f":"IF($BU$102=0,\"\",$BY$102)","v":""},null,{"$f":"IF($BU$102=0,\"\",$BZ$102)","v":""}]
[null,null,4,null,{"$f":"IF(BU103=0,\"\",$BT$103)","v":""},{"$nulls":27},{"$f":"IF($BU$103=0,\"\",$BU$103)","v":""},{"$nulls":3},{"$f":"IF($BU$103=0,\"\",$BV$103)","v":""},null,null,{"$f":"IF($BU$103=0,\"\",$BW$103)","v":""},null,":",{"$f":"IF($BU$103=0,\"\",$BY$103)","v":""},null,{"$f":"IF($BU$103=0,\"\",$BZ$103)","v":""}]
[]
[null,null,"Gruppe B",{"$nulls":29},"Sp.",{"$nulls":3},"Pkt.",null,null,"Tore",{"$nulls":4},"Diff."]
[null,null,"5.",null,{"$f":"IF(BU107=0,\"\",$BT$107)","v":""},{"$nulls":27},{"$f":"IF($BU$107=0,\"\",$BU$107)","v":""},{"$nulls":3},{"$f":"IF($BU$107=0,\"\",$BV$107)","v":""},null,null,{"$f":"IF($BU$107=0,\"\",$BW$107)","v":""},null,":",{"$f":"IF($BU$107=0,\"\",$BY$107)","v":""},null,{"$f":"IF($BU$107=0,\"\",$BZ$107)","v":""}]
[null,null,"6.",null,{"$f":"IF(BU108=0,\"\",$BT$108)","v":""},{"$nulls":27},{"$f":"IF($BU$108=0,\"\",$BU$108)","v":""},{"$nulls":3},{"$f":"IF($BU$108=0,\"\",$BV$108)","v":""},null,null,{"$f":"IF($BU$108=0,\"\",$BW$108)","v":""},null,":",{"$f":"IF($BU$108=0,\"\",$BY$108)","v":""},null,{"$f":"IF($BU$108=0,\"\",$BZ$108)","v":""}]
[null,null,"7.",null,{"$f":"IF(BU109=0,\"\",$BT$109)","v":""},{"$nulls":27},{"$f":"IF($BU$109=0,\"\",$BU$109)","v":""},{"$nulls":3},{"$f":"IF($BU$109=0,\"\",$BV$109)","v":""},null,null,{"$f":"IF($BU$109=0,\"\",$BW$109)","v":""},null,":",{"$f":"IF($BU$109=0,\"\",$BY$109)","v":""},null,{"$f":"IF($BU$109=0,\"\",$BZ$109)","v":""}]
[null,null,"8.",null,{"$f":"IF(BU110=0,\"\",$BT$110)","v":""},{"$nulls":27},{"$f":"IF($BU$110=0,\"\",$BU$110)","v":""},{"$nulls":3},{"$f":"IF($BU$110=0,\"\",$BV$110)","v":""},null,null,{"$f":"IF($BU$110=0,\"\",$BW$110)","v":""},null,":",{"$f":"IF($BU$110=0,\"\",$BY$110)","v":""},null,{"$f":"IF($BU$110=0,\"\",$BZ$110)","v":""}]
[]
[null,null,"Plätze 5 - 8",{"$nulls":29},"Sp.",{"$nulls":3},"Pkt.",null,null,"Tore",{"$nulls":4},"Diff."]
[null,null,"5.",null,{"$f":"IF(BU113=0,\"\",$BT$113)","v":""},{"$nulls":27},{"$f":"IF($BU$113=0,\"\",$BU$113)","v":""},{"$nulls":3},{"$f":"IF($BU$113=0,\"\",$BV$113)","v":""},null,null,{"$f":"IF($BU$113=0,\"\",$BW$113)","v":""},null,":",{"$f":"IF($BU$113=0,\"\",$BY$113)","v":""},null,{"$f":"IF($BU$113=0,\"\",$BZ$113)","v":""}]
[null,null,"6.",null,{"$f":"IF(BU114=0,\"\",$BT$114)","v":""},{"$nulls":27},{"$f":"IF($BU$114=0,\"\",$BU$114)","v":""},{"$nulls":3},{"$f":"IF($BU$114=0,\"\",$BV$114)","v":""},null,null,{"$f":"IF($BU$114=0,\"\",$BW$114)","v":""},null,":",{"$f":"IF($BU$114=0,\"\",$BY$114)","v":""},null,{"$f":"IF($BU$114=0,\"\",$BZ$114)","v":""}]
[null,null,"7.",null,{"$f":"IF(BU115=0,\"\",$BT$115)","v":""},{"$nulls":27},{"$f":"IF($BU$115=0,\"\",$BU$115)","v":""},{"$nulls":3},{"$f":"IF($BU$115=0,\"\",$BV$115)","v":""},null,null,{"$f":"IF($BU$115=0,\"\",$BW$115)","v":""},null,":",{"$f":"IF($BU$115=0,\"\",$BY$115)","v":""},null,{"$f":"IF($BU$115=0,\"\",$BZ$115)","v":""}]
[null,null,"8.",null,{"$f":"IF(BU116=0,\"\",$BT$116)","v":""},{"$nulls":27},{"$f":"IF($BU$116=0,\"\",$BU$116)","v":""},{"$nulls":3},{"$f":"IF($BU$116=0,\"\",$BV$116)","v":""},null,null,{"$f":"IF($BU$116=0,\"\",$BW$116)","v":""},null,":",{"$f":"IF($BU$116=0,\"\",$BY$116)","v":""},null,{"$f":"IF($BU$116=0,\"\",$BZ$116)","v":""}]
[]
[]
[]
[null,"III. Einlagespiel"]
[]
[]
[null,null,"Nr.",null,"Platz",{"$nulls":5},"Beginn",{"$nulls":4},"Einlagespiel A Jugend Sonntag, 31.05.2020",{"$nulls":35},"Ergebnis",{"$nulls":4},"Tore"]
[null,null,13,null,1,{"$nulls":5},{"$f":"K35+$V$8*$Y$8+$AO$8","v":"14:00:00"},{"$nulls":21},"-",{"$nulls":20},":"]
[]
[]
[null,null,"Nr.",null,"Platz",{"$nulls":5},"Beginn",{"$nulls":4},"Einlagespiel Damen Sonntag, 31.05.2020",{"$nulls":35},"Ergebnis",{"$nulls":4},"Tore"]
[null,null,14,null,1,{"$nulls":5},{"$f":"K64+$V$8*$Y$8+$AO$8","v":"15:00:00"},{"$nulls":21},"-",{"$nulls":20},":"]
[]
[]
[null,"IV. Endrunde"]
[]
[{"$nulls":5},"Beginn:",null,"16:15:00",{"$nulls":4},"Uhr",{"$nulls":6},"Spielzeit:",null,2,null,"x","00:25:00",{"$nulls":4},"min",null,"(Vorrunde)",{"$nulls":7},"Pause:","00:10:00","10:00:00",{"$nulls":4},"min"]
[]
[null,null,"Nr.",null,"Platz",{"$nulls":5},"Beginn",{"$nulls":4},"Spiel um Platz 3 und 4",{"$nulls":35},"Ergebnis",{"$nulls":4},"Tore"]
[null,null,{"$f":"SUM(C68+1)","v":15},null,1,{"$nulls":5},{"$f":"H73","v":"16:15:00"},{"$nulls":4},{"$f":"$E$42","v":""},{"$nulls":16},"-",{"$f":"$E$48","v":""},{"$nulls":19},":",null,null,{"$f":"IF(BC76=\"\",\"\",BC76+AZ76+BE35)","v":""}]
[{"$nulls":15},"2. Gruppe A",{"$nulls":17},"2. Gruppe B"]
[]
[null,null,"Nr.",null,"Platz",{"$nulls":5},"Beginn",{"$nulls":4},"Endspiel",{"$nulls":35},"Ergebnis"]
[null,null,{"$f":"SUM(C76+1)","v":16},null,1,{"$nulls":5},"17:30:00",{"$nulls":4},{"$f":"$E$41","v":""},{"$nulls":16},"-",{"$f":"$E$47","v":""},{"$nulls":19},":",null,null,{"$f":"IF(BC80=\"\",\"\",BC80+AZ80+BE76)","v":""}]
[{"$nulls":15},"1. Gruppe A",{"$nulls":17},"1. Gruppe B"]
[]
[null,"V. Platzierungen"]
[]
[{"$nulls":9},"1.",null,null,{"$f":"IF(ISBLANK($BC$80),\" \",IF($AZ$80>$BC$80,$P$80,IF($BC$80>$AZ$80,$AH$80)))","v":" "},{"$nulls":23},9,{"$nulls":4},"Punkte"]
[{"$nulls":9},"2.",null,null,{"$f":"IF(ISBLANK($BC$80),\" \",IF($AZ$80<$BC$80,$P$80,IF($BC$80<$AZ$80,$AH$80)))","v":" "},{"$nulls":23},7,{"$nulls":4},"Punkte"]
[{"$nulls":9},"3.",null,null,{"$f":"IF(ISBLANK($BC$76),\" \",IF($AZ$76>$BC$76,$P$76,IF($BC$76>$AZ$76,$AH$76)))","v":" "},{"$nulls":23},6,{"$nulls":4},"Punkte"]
[{"$nulls":9},"4.",null,null,{"$f":"IF(ISBLANK($BC$76),\" \",IF($AZ$76<$BC$76,$P$76,IF($BC$76<$AZ$76,$AH$76)))","v":" "},{"$nulls":23},5,{"$nulls":4},"Punkte"]
[{"$nulls":9},"5.",null,null,{"$f":"$E$53","v":""},{"$nulls":23},4,{"$nulls":4},"Punkte"]
[{"$nulls":9},"6.",null,null,{"$f":"$E$54","v":""},{"$nulls":23},3,{"$nulls":4},"Punkte"]
[{"$nulls":9},"7.",null,null,{"$f":"$E$55","v":""},{"$nulls":23},2,{"$nulls":4},"Punkte"]
[{"$nulls":9},"8.",null,null,{"$f":"$E$56","v":""},{"$nulls":23},1,{"$nulls":4},"Punkt"]
[]
[]
[]
[]
[]
[]
[{"$nulls":72},"Spiele","Punkte","+ Tore",null,"- Tore","Tore div."]
[{"$nulls":71},{"$f":"$E$17","v":"Stetten / Mühlheim"},{"$f":"COUNT($AZ$24,$BC$27,$AZ$35)","v":0},{"$f":"SUM($BM$24+$BO$27+$BM$35)","v":0},{"$f":"SUM($AZ$24+$BC$27+$AZ$35)","v":0},":",{"$f":"SUM($AZ$24+$AZ$28+$BC$33)","v":0},{"$f":"SUM(BW100-BY100)","v":0}]
[{"$nulls":71},{"$f":"$E$18","v":"Stetten / Remstal"},{"$f":"COUNT($BC$24,$BC$28,$AZ$33)","v":0},{"$f":"SUM($BO$24+$BO$28+$BM$33)","v":0},{"$f":"SUM($BC$24+$BC$28+$AZ$33)","v":0},":",{"$f":"SUM($BC$24+$AZ$27+$BC$35)","v":0},{"$f":"SUM(BW101-BY101)","v":0}]
[{"$nulls":71},{"$f":"$E$15","v":"Stetten / Karlstadt"},{"$f":"COUNT(#REF!,$AZ$27,$BC$33)","v":0},{"$f":"SUM(#REF!+$BM$27+$BO$33)","v":{"$error":"#REF!"}},{"$f":"SUM(#REF!+$AZ$27+$BC$33)","v":{"$error":"#REF!"}},":",{"$f":"SUM(#REF!+$BC$27+$AZ$33)","v":{"$error":"#REF!"}},{"$f":"SUM(BW102-BY102)","v":{"$error":"#REF!"}}]
[{"$nulls":71},{"$f":"$E$16","v":"Stetten / Allgäu"},{"$f":"COUNT(#REF!,$AZ$28,$BC$35)","v":0},{"$f":"SUM(#REF!+$BM$28+$BO$35)","v":{"$error":"#REF!"}},{"$f":"SUM(#REF!+$AZ$28+$BC$35)","v":{"$error":"#REF!"}},":",{"$f":"SUM(#REF!+$BC$28+$AZ$35)","v":{"$error":"#REF!"}},{"$f":"SUM(BW103-BY103)","v":{"$error":"#REF!"}}]
[]
[]
[{"$nulls":72},"Spiele","Punkte","+ Tore",null,"- Tore","Tore div."]
[{"$nulls":71},{"$f":"$AJ$17","v":"Stetten / Rhön"},{"$f":"COUNT($AZ$26,$BC$29,$AZ$34)","v":0},{"$f":"SUM($BM$26+$BO$29+$BM$34)","v":0},{"$f":"SUM($AZ$26+$BC$29+$AZ$34)","v":0},":",{"$f":"SUM($BC$26+$AZ$29+$BC$34)","v":0},{"$f":"SUM(BW107-BY107)","v":0}]
[{"$nulls":71},{"$f":"$AJ$16","v":"Stetten / Pfalz"},{"$f":"COUNT($BC$25,$AZ$30,$AZ$34)","v":0},{"$f":"SUM($BO$25+$BM$30+$BO$34)","v":0},{"$f":"SUM($BC$25+$AZ$30+$BC$34)","v":0},":",{"$f":"SUM($AZ$26+$AZ$30+$BC$32)","v":0},{"$f":"SUM(BW108-BY108)","v":0}]
[{"$nulls":71},{"$f":"$AJ$15","v":"Stetten / Haigerloch"},{"$f":"COUNT($AZ$25,$AZ$29,$AZ$32)","v":0},{"$f":"SUM($BM$25+$BM$29+$BO$32)","v":0},{"$f":"SUM($AZ$25+$AZ$29+$BC$32)","v":0},":",{"$f":"SUM($BC$25+$BC$29+$AZ$32)","v":0},{"$f":"SUM(BW109-BY109)","v":0}]
[{"$nulls":71},{"$f":"$AJ$18","v":"Stetten / Hechingen"},{"$f":"COUNT($BC$26,$BC$30,$BM$32)","v":0},{"$f":"SUM($BO$26+$BO$30+$BM$32)","v":0},{"$f":"SUM($BC$26+$BC$30+$AZ$32)","v":0},":",{"$f":"SUM($AZ$25+$BC$30+$AZ$34)","v":0},{"$f":"SUM(BW110-BY110)","v":0}]
[]
[]
[{"$nulls":71},{"$f":"$BT$102","v":"Stetten / Karlstadt"},{"$f":"$BU$102","v":0},{"$f":"$BV$102","v":{"$error":"#REF!"}},{"$f":"$BW$102","v":{"$error":"#REF!"}},":",{"$f":"$BY$102","v":{"$error":"#REF!"}},{"$f":"$BZ$102","v":{"$error":"#REF!"}}]
[{"$nulls":71},{"$f":"$BT$109","v":"Stetten / Haigerloch"},{"$f":"$BU$109","v":0},{"$f":"$BV$109","v":0},{"$f":"$BW$109","v":0},":",{"$f":"$BY$109","v":0},{"$f":"$BZ$109","v":0}]
[{"$nulls":71},{"$f":"$BT$110","v":"Stetten / Hechingen"},{"$f":"$BU$110","v":0},{"$f":"$BV$110","v":0},{"$f":"$BW$110","v":0},":",{"$f":"$BY$110","v":0},{"$f":"$BZ$110","v":0}]
[{"$nulls":71},{"$f":"$BT$103","v":"Stetten / Allgäu"},{"$f":"$BU$103","v":0},{"$f":"$BV$103","v":{"$error":"#REF!"}},{"$f":"$BW$103","v":{"$error":"#REF!"}},":",{"$f":"$BY$103","v":{"$error":"#REF!"}},{"$f":"$BZ$103","v":{"$error":"#REF!"}}]

{"sheet":"Index","index":1,"n_rows":10,"n_cols":3,"rows_kept":10}
[5,2,"Stetten / Allgäu"]
[1,7,"Stetten / Haigerloch"]
[6,9,"Stetten / Hechingen"]
[8,3,"Stetten / Hohentengen"]
[null,null,"Stetten / Karlstadt"]
[null,null,"Stetten / Mühlheim"]
[null,null,"Stetten / Pfalz"]
[null,null,"Stetten / Remstal"]
[" ",null,"Stetten / Rhön"]
[null,null," "]